BEGIN:VCALENDAR
VERSION:2.0
PRODID:-//Lakeview Cheese Galore - ECPv6.10.1//NONSGML v1.0//EN
CALSCALE:GREGORIAN
METHOD:PUBLISH
X-ORIGINAL-URL:https://lakeviewcheesegalore.ca
X-WR-CALDESC:Events for Lakeview Cheese Galore
REFRESH-INTERVAL;VALUE=DURATION:PT1H
X-Robots-Tag:noindex
X-PUBLISHED-TTL:PT1H
BEGIN:VTIMEZONE
TZID:America/Toronto
BEGIN:DAYLIGHT
TZOFFSETFROM:-0500
TZOFFSETTO:-0400
TZNAME:EDT
DTSTART:20220313T070000
END:DAYLIGHT
BEGIN:STANDARD
TZOFFSETFROM:-0400
TZOFFSETTO:-0500
TZNAME:EST
DTSTART:20221106T060000
END:STANDARD
END:VTIMEZONE
BEGIN:VEVENT
DTSTART;TZID=America/Toronto:20220922T193000
DTEND;TZID=America/Toronto:20220922T210000
DTSTAMP:20260419T161051
CREATED:20220901T175029Z
LAST-MODIFIED:20220901T175030Z
UID:1076-1663875000-1663880400@lakeviewcheesegalore.ca
SUMMARY:Cheese Tasting Club - Basics 101
DESCRIPTION:Curious to learn more about cheese?  The different categories? The different milks used? How to taste and discover what you like?   \n\n\n\nJoin us in exploring cheese from the fresh\, soft\, washed rind and cheddar categories.  Participate either live in Lakeview Cheese Galore’s Squeak-Easy private room ($59.95 per person) or virtually from the comfort of your own couch at home by ZOOMing-in ($49.95 per person).  \n\n\n\nParticipants attending live can arrive as of 7 pm. You also experience the cheese with a glass each of sparkling and red wine. \n\n\n\nParticipants attending virtually can pick-up their cheese as of Saturday\, September 17th at the shoppe. The ZOOM link will be e-mailed to you 48 hours prior to the Cheese Tasting Club event. \n\n\n\nTo register and pay\, visit September 22 – Cheese Tasting Club – Basics 1 (lakeviewcheesegalore.ca)
URL:https://lakeviewcheesegalore.ca/event/cheese-tasting-club-basics-101/
LOCATION:848 Lakeshore Road East\, 848 Lakeshore Road East\, Mississauga\, Ontario\, L5E 1E1
ORGANIZER;CN="Lakeview Cheese Galore":MAILTO:info@lakeviewcheesegalore.ca
END:VEVENT
END:VCALENDAR