BEGIN:VCALENDAR
VERSION:2.0
PRODID:-//Lakeview Cheese Galore - ECPv6.10.1//NONSGML v1.0//EN
CALSCALE:GREGORIAN
METHOD:PUBLISH
X-ORIGINAL-URL:https://lakeviewcheesegalore.ca
X-WR-CALDESC:Events for Lakeview Cheese Galore
REFRESH-INTERVAL;VALUE=DURATION:PT1H
X-Robots-Tag:noindex
X-PUBLISHED-TTL:PT1H
BEGIN:VTIMEZONE
TZID:America/Toronto
BEGIN:DAYLIGHT
TZOFFSETFROM:-0500
TZOFFSETTO:-0400
TZNAME:EDT
DTSTART:20220313T070000
END:DAYLIGHT
BEGIN:STANDARD
TZOFFSETFROM:-0400
TZOFFSETTO:-0500
TZNAME:EST
DTSTART:20221106T060000
END:STANDARD
END:VTIMEZONE
BEGIN:VEVENT
DTSTART;TZID=America/Toronto:20221006T193000
DTEND;TZID=America/Toronto:20221006T210000
DTSTAMP:20260419T162317
CREATED:20220920T020845Z
LAST-MODIFIED:20220920T022455Z
UID:1089-1665084600-1665090000@lakeviewcheesegalore.ca
SUMMARY:Harmon's Beer\, Beer Cheese & Beer Jellies Matching Class
DESCRIPTION:Love beer and beer products? This Cheese Matching session is going to be an amazing experience! \n\n\n\nDiscover the organic and non-alcoholic beer of Toronto-based Harmon’s Craft Beer. Toronto’s NOW Magazine stated that “These non-alcoholic beer taste like BEER!” And they do! Their Lunchbox Lagered Ale\, Jack Pine west coast I.P.A. and Half-Day Hazy I.P.A.\, their primary products\, will be featured. Perhaps we may sample their newest creation. \n\n\n\nOntario’s Beau’s Abbey-style and Dark Side of the Moo cheese with the Austro-Bavarian King Ludwig Beer cheese will sampled alongside of the Harmon’s Beer. \n\n\n\nToronto’s Malty & Hoppy Delicacy make savoury jellies from local craft beer: Pale Ale jelly using Canuck Pale Ale from Great Lakes Brewery\, Amber Ale jelly using Best from Henderson Brewing Co. and Imperial I.P.A jelly using 10 Bitter Years from Black Oak Brewing Co. Discovering their flavours will also be part of the fun. \n\n\n\nEnough goodies for one person to truly enjoy. \n\n\n\nThe tasting is available both live for 24 participants ($49.99 per person) in the Squeak-Easy private back room of Lakeview Cheese Galore and virtually via Zoom\, for those who wish to experience the event from the comfort of their own couch at home ($43.99 per person). \n\n\n\nImportant: Participants must be 19 years of age and older. \n\n\n\n \n\n\n\n \n\n\n\nTicket Details \n\n\n\nTo register\, click onto the On-line Cheese Shoppe button\, then the Tasting Experiences. \n\n\n\n \n\n\n\nIn Person tickets – Bring your invoice (emailed to you after you pay online)\, it is your ticket. \n\n\n\nVirtual participants – We will email you a Zoom link to join us online. You will need to pick up your cheese\, beer and jellies from our shoppe between October 1st and 6th.
URL:https://lakeviewcheesegalore.ca/event/harmons-beer-beer-cheese-beer-jellies-matching/
LOCATION:Ontario
END:VEVENT
END:VCALENDAR