BEGIN:VCALENDAR
VERSION:2.0
PRODID:-//Lakeview Cheese Galore - ECPv6.10.1//NONSGML v1.0//EN
CALSCALE:GREGORIAN
METHOD:PUBLISH
X-ORIGINAL-URL:https://lakeviewcheesegalore.ca
X-WR-CALDESC:Events for Lakeview Cheese Galore
REFRESH-INTERVAL;VALUE=DURATION:PT1H
X-Robots-Tag:noindex
X-PUBLISHED-TTL:PT1H
BEGIN:VTIMEZONE
TZID:America/Toronto
BEGIN:DAYLIGHT
TZOFFSETFROM:-0500
TZOFFSETTO:-0400
TZNAME:EDT
DTSTART:20220313T070000
END:DAYLIGHT
BEGIN:STANDARD
TZOFFSETFROM:-0400
TZOFFSETTO:-0500
TZNAME:EST
DTSTART:20221106T060000
END:STANDARD
END:VTIMEZONE
BEGIN:VEVENT
DTSTART;TZID=America/Toronto:20221123T193000
DTEND;TZID=America/Toronto:20221123T210000
DTSTAMP:20260419T133428
CREATED:20221022T193334Z
LAST-MODIFIED:20221022T193335Z
UID:1134-1669231800-1669237200@lakeviewcheesegalore.ca
SUMMARY:Beer & Cheese Matching Event
DESCRIPTION:Fun\, entertaining\, delicious and educational. Learn how to put together your own Beer & Cheese pairing for friends\, colleagues or just you and your partner. Holiday season approaches and now is the time to get ready to be the host with the most. \n\n\n\nJoin us in-person in the brewery’s Bier Hall\, or virtually from home. \n\n\n\nIN-PERSON \n\n\n\nYou’ll receive a 10 to 14 ounce pour of each beer and 100g of each cheese. Price for In-person includes a gratuity for your servers. \n\n\n\nFeel free to arrive early to get seated and settled before we begin at 7:30pm. \n\n\n\nVIRTUAL \n\n\n\nFree delivery of the package is going out to Mississauga\, Etobicoke and Oakville on Tuesday\, November 22 between 11am and 5pm or you can pick up orders as of Saturday\, November 19 in the afternoon. \n\n\n\nYou’ll receive two bottles or cans of each beer and 100g of each cheese. \n\n\n\nA link to the Zoom meeting will be sent prior to the event by email. Please check your spam or junk mail if you don’t see it in your regular inbox. \n\n\n\nSomeone over the age of 19 must be home to receive the delivery. \n\n\n\nBeer Line-up: \n\n\n\nHopfenweisse GuySpanker DIPAMad Capreol Vanilla Porter\n\n\n\nCanadian Cheese Line-up: \n\n\n\nGarlic & Onion BrickLa MascotteSmoked Gorgonzola\n\n\n\n\n\nTo register Click onto Beer & Cheese Pairing For 2 – November 23\, 2022 – In-person and Virtual Event | Stonehooker Brewing Company General Store Read More
URL:https://lakeviewcheesegalore.ca/event/beer-cheese-matching-event/
LOCATION:Stonehooker Brewing Company\, 864 Lakeshore Rd. E.\, Mississauga\, L5E 1E1\, Canada
END:VEVENT
END:VCALENDAR