BEGIN:VCALENDAR
VERSION:2.0
PRODID:-//Lakeview Cheese Galore - ECPv6.10.1//NONSGML v1.0//EN
CALSCALE:GREGORIAN
METHOD:PUBLISH
X-WR-CALNAME:Lakeview Cheese Galore
X-ORIGINAL-URL:https://lakeviewcheesegalore.ca
X-WR-CALDESC:Events for Lakeview Cheese Galore
REFRESH-INTERVAL;VALUE=DURATION:PT1H
X-Robots-Tag:noindex
X-PUBLISHED-TTL:PT1H
BEGIN:VTIMEZONE
TZID:America/Toronto
BEGIN:DAYLIGHT
TZOFFSETFROM:-0500
TZOFFSETTO:-0400
TZNAME:EDT
DTSTART:20230312T070000
END:DAYLIGHT
BEGIN:STANDARD
TZOFFSETFROM:-0400
TZOFFSETTO:-0500
TZNAME:EST
DTSTART:20231105T060000
END:STANDARD
END:VTIMEZONE
BEGIN:VEVENT
DTSTART;TZID=America/Toronto:20230127T190000
DTEND;TZID=America/Toronto:20230127T220000
DTSTAMP:20260419T104704
CREATED:20230110T221744Z
LAST-MODIFIED:20230110T232423Z
UID:1193-1674846000-1674856800@lakeviewcheesegalore.ca
SUMMARY:Cheesy Musical Soirée
DESCRIPTION:Beat the January blahs with a fun and tasty evening with your friends in our Squeak-Easy event space! \n\n\n\nIncluded is a three course\, cheese-themed\, light dinner served as you enjoy the great music and funny banter of Mississauga’s Eclectic Revival.   \n\n\n\n \n\n\n\nSOCIABLE!  Wine\, beer and non-alcoholic beverages will be sold.   \n\n\n\n \n\n\n\nTo register on-line\, click onto January 27\, 2023 – Cheesy Musical Soirée (lakeviewcheesegalore.ca) or call the shoppe at 905-274-7775. \n\n\n\n \n\n\n\nEnter via the shoppe’s front door to attend the soirée. \n\n\n\n \n\n\n\nImportant: Participants must be 19 years of age and older. \n\n\n\nTicket Details \n\n\n\nBring your invoice (emailed to you after you pay online)\, it is your ticket. \n\n\n\nPrices quoted are per participant and include the light cheese dinner and musical entertainment.
URL:https://lakeviewcheesegalore.ca/event/cheesy-musical-soiree/
LOCATION:Lakeview Cheese Galore’s Squeak-Easy back room\, 848 Lakeshore Road East\, Mississauga\, L5E 1E1\, Canada
ORGANIZER;CN="Lakeview Cheese Galore":MAILTO:info@lakeviewcheesegalore.ca
END:VEVENT
END:VCALENDAR