BEGIN:VCALENDAR
VERSION:2.0
PRODID:-//Lakeview Cheese Galore - ECPv6.10.1//NONSGML v1.0//EN
CALSCALE:GREGORIAN
METHOD:PUBLISH
X-WR-CALNAME:Lakeview Cheese Galore
X-ORIGINAL-URL:https://lakeviewcheesegalore.ca
X-WR-CALDESC:Events for Lakeview Cheese Galore
REFRESH-INTERVAL;VALUE=DURATION:PT1H
X-Robots-Tag:noindex
X-PUBLISHED-TTL:PT1H
BEGIN:VTIMEZONE
TZID:America/Toronto
BEGIN:DAYLIGHT
TZOFFSETFROM:-0500
TZOFFSETTO:-0400
TZNAME:EDT
DTSTART:20230312T070000
END:DAYLIGHT
BEGIN:STANDARD
TZOFFSETFROM:-0400
TZOFFSETTO:-0500
TZNAME:EST
DTSTART:20231105T060000
END:STANDARD
END:VTIMEZONE
BEGIN:VEVENT
DTSTART;TZID=America/Toronto:20230506T110000
DTEND;TZID=America/Toronto:20230506T150000
DTSTAMP:20260421T133121
CREATED:20230422T112148Z
LAST-MODIFIED:20230422T112149Z
UID:1274-1683370800-1683385200@lakeviewcheesegalore.ca
SUMMARY:Stonetown Artisan Cheese Sample Tasting
DESCRIPTION:Come to Lakeview Cheese Galore to experience the Ontario cheese made by Ramon at their St. Marys cheese facility. He uses cows’ milk from Hans and Jolanda’s herd\, the owners of Stonetown Artisan Cheese\, and goats’ milk from local family farms. Wendy will be at the shoppe\, sharing her knowledge and offering samples of the cheese to you.
URL:https://lakeviewcheesegalore.ca/event/stonetown-artisan-cheese-sample-tasting/
LOCATION:Lakeview Cheese Galore\, 848 Lakeshore Road East\, Mississauga\, Ontario\, L5E 1E1\, Canada
ORGANIZER;CN="Lakeview Cheese Galore":MAILTO:info@lakeviewcheesegalore.ca
END:VEVENT
END:VCALENDAR