BEGIN:VCALENDAR
VERSION:2.0
PRODID:-//Lakeview Cheese Galore - ECPv6.10.1//NONSGML v1.0//EN
CALSCALE:GREGORIAN
METHOD:PUBLISH
X-WR-CALNAME:Lakeview Cheese Galore
X-ORIGINAL-URL:https://lakeviewcheesegalore.ca
X-WR-CALDESC:Events for Lakeview Cheese Galore
REFRESH-INTERVAL;VALUE=DURATION:PT1H
X-Robots-Tag:noindex
X-PUBLISHED-TTL:PT1H
BEGIN:VTIMEZONE
TZID:America/Toronto
BEGIN:DAYLIGHT
TZOFFSETFROM:-0500
TZOFFSETTO:-0400
TZNAME:EDT
DTSTART:20240310T070000
END:DAYLIGHT
BEGIN:STANDARD
TZOFFSETFROM:-0400
TZOFFSETTO:-0500
TZNAME:EST
DTSTART:20241103T060000
END:STANDARD
END:VTIMEZONE
BEGIN:VEVENT
DTSTART;TZID=America/Toronto:20240201T190000
DTEND;TZID=America/Toronto:20240229T170000
DTSTAMP:20260421T053008
CREATED:20240125T193105Z
LAST-MODIFIED:20240125T193321Z
UID:1448-1706814000-1709226000@lakeviewcheesegalore.ca
SUMMARY:ON DUTY - Port Credit Fire Station 104                                   Photo Exhibit by Stephen Uhraney
DESCRIPTION:Mississauga Fire and Emergency Services (MFES) have a responsibility to keep the City’s residents safe from hazards every day.  \n\n\n\nThis February\, you are invited to experience the inside world of firefighting through the lens of Stephen Uhraney\, an award-winning local photographer. Uhraney has been recognized by many publications and was recently named as a finalist in Canadian Firefighter’s inaugural photo contest. \n\n\n\n‘On Duty’ includes 36 of 7\,500 photos Uhraney captured of firefighters from Mississauga’s Fire Station 104. Attendees will receive a rare glimpse into the activities of Mississauga firefighters during critical moments when urgent help is required for individuals or properties in danger. \n\n\n\nPlease enter the FRAM building and use the front entrance. The showroom is adjacent to the main lobby reception. \n\n\n\nLakeview Cheese Galore will be participating at the February 1st opening\, serving broiled raclette cheese.  \n\n\n\nAccessibility note: There are short stairs outside and a couple of steps inside where the show will be. \n\n\n\nThe St. Lawrence building is open to the public Monday to Friday from 9 am to 5 pm; you do not need a ticket for these timings.  \n\n\n\nPhotographer Stephen Uhraney will be at the exhibit on the weekends\, Saturdays and Sundays from 10 am until 2 pm.
URL:https://lakeviewcheesegalore.ca/event/on-duty-port-credit-fire-station-104-photo-exhibit-by-stephen-uhraney/
LOCATION:St. Lawrence Starch Building\, 141 Lakeshore Rd.\, E.\, Mississauga\, Ontario\, Canada
END:VEVENT
END:VCALENDAR