BEGIN:VCALENDAR
VERSION:2.0
PRODID:-//Lakeview Cheese Galore - ECPv6.10.1//NONSGML v1.0//EN
CALSCALE:GREGORIAN
METHOD:PUBLISH
X-ORIGINAL-URL:https://lakeviewcheesegalore.ca
X-WR-CALDESC:Events for Lakeview Cheese Galore
REFRESH-INTERVAL;VALUE=DURATION:PT1H
X-Robots-Tag:noindex
X-PUBLISHED-TTL:PT1H
BEGIN:VTIMEZONE
TZID:America/Toronto
BEGIN:DAYLIGHT
TZOFFSETFROM:-0500
TZOFFSETTO:-0400
TZNAME:EDT
DTSTART:20240310T070000
END:DAYLIGHT
BEGIN:STANDARD
TZOFFSETFROM:-0400
TZOFFSETTO:-0500
TZNAME:EST
DTSTART:20241103T060000
END:STANDARD
END:VTIMEZONE
BEGIN:VEVENT
DTSTART;TZID=America/Toronto:20240612T190000
DTEND;TZID=America/Toronto:20240612T203000
DTSTAMP:20260422T074751
CREATED:20240604T015955Z
LAST-MODIFIED:20240604T020145Z
UID:1514-1718218800-1718224200@lakeviewcheesegalore.ca
SUMMARY:Harmon's Craft Beer & Ontario Cheese Tasting Experience
DESCRIPTION:Gurth has sampled many non-alcoholic beer\, but only Toronto’s Harmon’s craft beer tastes like beer. \n\n\n\nCreated in 2021 by Steve Abrams\, Rob Doyle and Mike Cuch\, Harmon’s is on a mission to brew delicious non-alcoholic craft beer. \n\n\n\nDrawing on their 40+ combined years of industry experience\, they adapted and updated methods used by generations of small brewers to create an innovative way of making non-alcoholic beer. They believe the best way to make great beer is to work within existing brewing frameworks. That means no fancy equipment or special technology is used to remove the alcohol after fermentation. They just rely on clever recipe design and close attention to detail. \n\n\n\nYou will experience their: \n\n\n\n\nTresette Italian-style Pilsner\n\n\n\nLunchbox Lagered Ale\n\n\n\nJack Pine Pale Ale\n\n\n\n\nMatched to these Ontario cheese: \n\n\n\n\nGOLD 18 month Gouda\n\n\n\nWildwood alpine-style\n\n\n\nBeau’s Abbey-style Cheese\n\n\n\n\nPrice is per participant. \n\n\n\nParticipants can be younger than 19 years of age as non-alcoholic beer (>0.5%) will be sampled. \n\n\n\nWeather permitting\, the event is planned to be outdoors in our Cheeselovers’ Garden. If it rains\, we will go indoors into the Squeak-Easy. \n\n\n\n\n\nTo register\, visit the shoppe\, call us at 905-274-7775 or click https://lakeviewcheesegalore.ca/cheese-shoppe/June-12-2024-Harmons-Non-Alcoholic-Beer-&-Cheese-Tasting-Experience-p667728447
URL:https://lakeviewcheesegalore.ca/event/harmons-craft-beer-ontario-cheese-tasting-experience/
LOCATION:Our outdoor Cheeselovers’ Garden\, 848 Lakeshore Rd. E\, Mississauga\, ON\, L5E 1E1\, Canada
ORGANIZER;CN="Lakeview Cheese Galore":MAILTO:info@lakeviewcheesegalore.ca
END:VEVENT
END:VCALENDAR