BEGIN:VCALENDAR
VERSION:2.0
PRODID:-//Lakeview Cheese Galore - ECPv6.10.1//NONSGML v1.0//EN
CALSCALE:GREGORIAN
METHOD:PUBLISH
X-ORIGINAL-URL:https://lakeviewcheesegalore.ca
X-WR-CALDESC:Events for Lakeview Cheese Galore
REFRESH-INTERVAL;VALUE=DURATION:PT1H
X-Robots-Tag:noindex
X-PUBLISHED-TTL:PT1H
BEGIN:VTIMEZONE
TZID:America/Toronto
BEGIN:DAYLIGHT
TZOFFSETFROM:-0500
TZOFFSETTO:-0400
TZNAME:EDT
DTSTART:20240310T070000
END:DAYLIGHT
BEGIN:STANDARD
TZOFFSETFROM:-0400
TZOFFSETTO:-0500
TZNAME:EST
DTSTART:20241103T060000
END:STANDARD
END:VTIMEZONE
BEGIN:VEVENT
DTSTART;TZID=America/Toronto:20240810T110000
DTEND;TZID=America/Toronto:20240810T150000
DTSTAMP:20260424T154146
CREATED:20240802T154920Z
LAST-MODIFIED:20240802T154920Z
UID:1540-1723287600-1723302000@lakeviewcheesegalore.ca
SUMMARY:Jewels Under The Kilt Flavoured Tree Nut Tasting
DESCRIPTION:Grown on Elizabeth’s farm near Fergus. \n\n\n\nThe nuts are roasted with real Canadian maple syrup prior to receiving their extra flavouring. \n\n\n\nWe offer their: \n\n\n\n\nChipotle Pecans\n\n\n\nSalted Caramel Pecans\n\n\n\nOrange Vanilla Cream Almonds\n\n\n\nEspresso Hazelnuts\n\n\n\n\nYummy on their own as a snack and with your favourite cheese from our shoppe.  \n\n\n\nCome and experience them.
URL:https://lakeviewcheesegalore.ca/event/jewels-under-the-kilt-flavoured-tree-nut-tasting/
LOCATION:Lakeview Cheese Galore\, 848 Lakeshore Road East\, Mississauga\, Ontario\, L5E 1E1\, Canada
ORGANIZER;CN="Lakeview Cheese Galore":MAILTO:info@lakeviewcheesegalore.ca
END:VEVENT
END:VCALENDAR