BEGIN:VCALENDAR
VERSION:2.0
PRODID:-//Lakeview Cheese Galore - ECPv6.10.1//NONSGML v1.0//EN
CALSCALE:GREGORIAN
METHOD:PUBLISH
X-ORIGINAL-URL:https://lakeviewcheesegalore.ca
X-WR-CALDESC:Events for Lakeview Cheese Galore
REFRESH-INTERVAL;VALUE=DURATION:PT1H
X-Robots-Tag:noindex
X-PUBLISHED-TTL:PT1H
BEGIN:VTIMEZONE
TZID:America/Toronto
BEGIN:DAYLIGHT
TZOFFSETFROM:-0500
TZOFFSETTO:-0400
TZNAME:EDT
DTSTART:20240310T070000
END:DAYLIGHT
BEGIN:STANDARD
TZOFFSETFROM:-0400
TZOFFSETTO:-0500
TZNAME:EST
DTSTART:20241103T060000
END:STANDARD
END:VTIMEZONE
BEGIN:VEVENT
DTSTART;TZID=America/Toronto:20240907T110000
DTEND;TZID=America/Toronto:20240907T150000
DTSTAMP:20260422T074837
CREATED:20240830T193706Z
LAST-MODIFIED:20240830T193706Z
UID:1560-1725706800-1725721200@lakeviewcheesegalore.ca
SUMMARY:Sampling of Mountainoak and Stonetown Artisan Cheese
DESCRIPTION:Wendy\, the Cheese Expert for these two Ontario farmstead cheese companies\, will be offering samples of four of their cheese.  She will share her knowledge and passion of their cheese with you.  Their cheese are made from the milk from their cows.
URL:https://lakeviewcheesegalore.ca/event/sampling-of-mountainoak-and-stonetown-artisan-cheese/
LOCATION:Lakeview Cheese Galore\, 848 Lakeshore Road East\, Mississauga\, Ontario\, L5E 1E1\, Canada
ORGANIZER;CN="Lakeview Cheese Galore":MAILTO:info@lakeviewcheesegalore.ca
END:VEVENT
END:VCALENDAR