BEGIN:VCALENDAR
VERSION:2.0
PRODID:-//Lakeview Cheese Galore - ECPv6.10.1//NONSGML v1.0//EN
CALSCALE:GREGORIAN
METHOD:PUBLISH
X-ORIGINAL-URL:https://lakeviewcheesegalore.ca
X-WR-CALDESC:Events for Lakeview Cheese Galore
REFRESH-INTERVAL;VALUE=DURATION:PT1H
X-Robots-Tag:noindex
X-PUBLISHED-TTL:PT1H
BEGIN:VTIMEZONE
TZID:America/Toronto
BEGIN:DAYLIGHT
TZOFFSETFROM:-0500
TZOFFSETTO:-0400
TZNAME:EDT
DTSTART:20240310T070000
END:DAYLIGHT
BEGIN:STANDARD
TZOFFSETFROM:-0400
TZOFFSETTO:-0500
TZNAME:EST
DTSTART:20241103T060000
END:STANDARD
END:VTIMEZONE
BEGIN:VEVENT
DTSTART;TZID=America/Toronto:20241002T193000
DTEND;TZID=America/Toronto:20241002T210000
DTSTAMP:20260422T074854
CREATED:20240628T195518Z
LAST-MODIFIED:20241001T104154Z
UID:1534-1727897400-1727902800@lakeviewcheesegalore.ca
SUMMARY:OKTOBEERFEST!                                                                Silversmith Beer & Ontario Cheese Tasting Experience
DESCRIPTION:In 2011\, when two friends looked around their hometown of Niagara-on-the-Lake and were struck by the fact that while the region had 38 wineries\, and not a single brewery. They decided it was time to change that. \n\n\n\nIn the Niagara town of Virgil was an old church. The friends bought the 130 year-old building\, moved their equipment in\, and Silversmith Brewing Company had its home. \n\n\n\nIn 2022 Silversmith Brewing Co. purchased Black Oak Brewing Company in Etobicoke. By joining together\, they were able to brew a combined portfolio of award-winning craft beers. The Etobicoke brewery with its taproom and retail store\, remains fully operational. \n\n\n\nThe tasting event occurs inside Lakeview Cheese Galore’s secret Squeak-Easy\, from 7:30 to 9 pm.  \n\n\n\nYou will experience Silversmith’s: \n\n\n\n\nHelles Lager\n\n\n\nTropical Situation American-style Pale Ale\n\n\n\nBlack Lager\n\n\n\n\nMatched to these Ontario cheese: \n\n\n\n\nIron Horse Clothbound Cheddar\n\n\n\nSpicy Citrus Brebis\n\n\n\nCastello Traditional Blue\n\n\n\n\nTo register and pay\, click onto https://lakeviewcheesegalore.ca/event/silversmith-beer-ontario-cheese-tasting-experience/ or call us at 905-274-7775. \n\n\n\nParticipants must be 19 years of age and older to participate.
URL:https://lakeviewcheesegalore.ca/event/silversmith-beer-ontario-cheese-tasting-experience/
LOCATION:Lakeview Cheese Galore’s Squeak-Easy back room\, 848 Lakeshore Road East\, Mississauga\, L5E 1E1\, Canada
ORGANIZER;CN="Lakeview Cheese Galore":MAILTO:info@lakeviewcheesegalore.ca
END:VEVENT
END:VCALENDAR