BEGIN:VCALENDAR
VERSION:2.0
PRODID:-//Lakeview Cheese Galore - ECPv6.10.1//NONSGML v1.0//EN
CALSCALE:GREGORIAN
METHOD:PUBLISH
X-WR-CALNAME:Lakeview Cheese Galore
X-ORIGINAL-URL:https://lakeviewcheesegalore.ca
X-WR-CALDESC:Events for Lakeview Cheese Galore
REFRESH-INTERVAL;VALUE=DURATION:PT1H
X-Robots-Tag:noindex
X-PUBLISHED-TTL:PT1H
BEGIN:VTIMEZONE
TZID:America/Toronto
BEGIN:DAYLIGHT
TZOFFSETFROM:-0500
TZOFFSETTO:-0400
TZNAME:EDT
DTSTART:20240310T070000
END:DAYLIGHT
BEGIN:STANDARD
TZOFFSETFROM:-0400
TZOFFSETTO:-0500
TZNAME:EST
DTSTART:20241103T060000
END:STANDARD
END:VTIMEZONE
BEGIN:VEVENT
DTSTART;TZID=America/Toronto:20241120T193000
DTEND;TZID=America/Toronto:20241120T213000
DTSTAMP:20260422T074708
CREATED:20241031T211733Z
LAST-MODIFIED:20241101T183845Z
UID:1586-1732131000-1732138200@lakeviewcheesegalore.ca
SUMMARY:Hands-on Cheese & Charcuterie Board Class
DESCRIPTION:Want to learn how to design and create your own delicious cheese and charcuterie board for your upcoming holiday party? \n\n\n\nJoin us for this hands-on class where you will assemble a board for two\, for your enjoyment with a glass of sparkling wine. \n\n\n\nSeveral different types of cheese\, meat\, crackers\, pickled goodies and fruit will be available to you to choose from. \n\n\n\nYou assemble your creation on your own board from home or one of our locally-crafted handmade boards that you bring home with you ($40 to $45). \n\n\n\nParticipants must be 19 years of age and older. \n\n\n\nFrequently asked questions are: \n\n\n\n\nHow many cheese & how much?\n\n\n\nShould I pre-cut everything or leave them as blocks?\n\n\n\nWhen should I serve it?\n\n\n\n…
URL:https://lakeviewcheesegalore.ca/event/hands-on-cheese-charcuterie-board-class/
LOCATION:Lakeview Cheese Galore’s Squeak-Easy back room\, 848 Lakeshore Road East\, Mississauga\, L5E 1E1\, Canada
ORGANIZER;CN="Lakeview Cheese Galore":MAILTO:info@lakeviewcheesegalore.ca
END:VEVENT
END:VCALENDAR