BEGIN:VCALENDAR
VERSION:2.0
PRODID:-//Lakeview Cheese Galore - ECPv6.10.1//NONSGML v1.0//EN
CALSCALE:GREGORIAN
METHOD:PUBLISH
X-WR-CALNAME:Lakeview Cheese Galore
X-ORIGINAL-URL:https://lakeviewcheesegalore.ca
X-WR-CALDESC:Events for Lakeview Cheese Galore
REFRESH-INTERVAL;VALUE=DURATION:PT1H
X-Robots-Tag:noindex
X-PUBLISHED-TTL:PT1H
BEGIN:VTIMEZONE
TZID:America/Toronto
BEGIN:DAYLIGHT
TZOFFSETFROM:-0500
TZOFFSETTO:-0400
TZNAME:EDT
DTSTART:20240310T070000
END:DAYLIGHT
BEGIN:STANDARD
TZOFFSETFROM:-0400
TZOFFSETTO:-0500
TZNAME:EST
DTSTART:20241103T060000
END:STANDARD
END:VTIMEZONE
BEGIN:VEVENT
DTSTART;TZID=America/Toronto:20241201T110000
DTEND;TZID=America/Toronto:20241201T140000
DTSTAMP:20260424T154050
CREATED:20241125T032514Z
LAST-MODIFIED:20241125T032514Z
UID:1589-1733050800-1733061600@lakeviewcheesegalore.ca
SUMMARY:Diablo Spiced Nuts Demo Tasting
DESCRIPTION:Come and meet Wendy\, co-founder of Burlington’s Diablo Brands Spiced Nuts\, and taste their two flavoured cashew and pecan products (Maple Pepper Praline and Sabrosa) that she and Mike produce.
URL:https://lakeviewcheesegalore.ca/event/diablo-spiced-nuts-demo-tasting/
LOCATION:Lakeview Cheese Galore\, 848 Lakeshore Road East\, Mississauga\, Ontario\, L5E 1E1\, Canada
ORGANIZER;CN="Lakeview Cheese Galore":MAILTO:info@lakeviewcheesegalore.ca
END:VEVENT
END:VCALENDAR