BEGIN:VCALENDAR
VERSION:2.0
PRODID:-//Lakeview Cheese Galore - ECPv6.10.1//NONSGML v1.0//EN
CALSCALE:GREGORIAN
METHOD:PUBLISH
X-ORIGINAL-URL:https://lakeviewcheesegalore.ca
X-WR-CALDESC:Events for Lakeview Cheese Galore
REFRESH-INTERVAL;VALUE=DURATION:PT1H
X-Robots-Tag:noindex
X-PUBLISHED-TTL:PT1H
BEGIN:VTIMEZONE
TZID:America/Toronto
BEGIN:DAYLIGHT
TZOFFSETFROM:-0500
TZOFFSETTO:-0400
TZNAME:EDT
DTSTART:20240310T070000
END:DAYLIGHT
BEGIN:STANDARD
TZOFFSETFROM:-0400
TZOFFSETTO:-0500
TZNAME:EST
DTSTART:20241103T060000
END:STANDARD
END:VTIMEZONE
BEGIN:VEVENT
DTSTART;TZID=America/Toronto:20241208T110000
DTEND;TZID=America/Toronto:20241208T150000
DTSTAMP:20260424T154145
CREATED:20241125T033245Z
LAST-MODIFIED:20241125T033245Z
UID:1594-1733655600-1733670000@lakeviewcheesegalore.ca
SUMMARY:Black Label Coffee Demo Tasting
DESCRIPTION:Come and meet Zaid\, Master Coffee Roaster at Black Label Coffee Co.\, and experience his organic\, freshly brewed coffee.
URL:https://lakeviewcheesegalore.ca/event/black-label-coffee-demo-tasting/
LOCATION:Lakeview Cheese Galore\, 848 Lakeshore Road East\, Mississauga\, Ontario\, L5E 1E1\, Canada
ORGANIZER;CN="Lakeview Cheese Galore":MAILTO:info@lakeviewcheesegalore.ca
END:VEVENT
END:VCALENDAR