BEGIN:VCALENDAR
VERSION:2.0
PRODID:-//Lakeview Cheese Galore - ECPv6.10.1//NONSGML v1.0//EN
CALSCALE:GREGORIAN
METHOD:PUBLISH
X-WR-CALNAME:Lakeview Cheese Galore
X-ORIGINAL-URL:https://lakeviewcheesegalore.ca
X-WR-CALDESC:Events for Lakeview Cheese Galore
REFRESH-INTERVAL;VALUE=DURATION:PT1H
X-Robots-Tag:noindex
X-PUBLISHED-TTL:PT1H
BEGIN:VTIMEZONE
TZID:America/Toronto
BEGIN:DAYLIGHT
TZOFFSETFROM:-0500
TZOFFSETTO:-0400
TZNAME:EDT
DTSTART:20240310T070000
END:DAYLIGHT
BEGIN:STANDARD
TZOFFSETFROM:-0400
TZOFFSETTO:-0500
TZNAME:EST
DTSTART:20241103T060000
END:STANDARD
END:VTIMEZONE
BEGIN:VEVENT
DTSTART;TZID=America/Toronto:20241215T110000
DTEND;TZID=America/Toronto:20241215T160000
DTSTAMP:20260422T093101
CREATED:20241125T112837Z
LAST-MODIFIED:20241208T210419Z
UID:1597-1734260400-1734278400@lakeviewcheesegalore.ca
SUMMARY:Butter Bar Pop-up
DESCRIPTION:I met Kate and discovered her Mississauga-made flavoured butters this summer at the Port Credit Farmers’ Market.  WOW!   Come and meet her\, taste and buy her delicious butter at our shoppe TODAY ONLY! \n\n\n\nAVAILABLE FOR PURCHASE ONLY THIS DAY!  \n\n\n\nHer flavoured butters includes: \n\n\n\n\nBasil Lemon Garlic\n\n\n\n\n\nPepper Garlic\n\n\n\nThyme\, Sage and Rosemary \n\n\n\n\n\nTruffle Garlic\n\n\n\nCinnamon Sugar Nutmeg\n\n\n\nGold Glitter
URL:https://lakeviewcheesegalore.ca/event/butter-bar-pop-up/
LOCATION:Lakeview Cheese Galore\, 848 Lakeshore Road East\, Mississauga\, Ontario\, L5E 1E1\, Canada
ORGANIZER;CN="Lakeview Cheese Galore":MAILTO:info@lakeviewcheesegalore.ca
END:VEVENT
END:VCALENDAR