BEGIN:VCALENDAR
VERSION:2.0
PRODID:-//Lakeview Cheese Galore - ECPv6.10.1//NONSGML v1.0//EN
CALSCALE:GREGORIAN
METHOD:PUBLISH
X-WR-CALNAME:Lakeview Cheese Galore
X-ORIGINAL-URL:https://lakeviewcheesegalore.ca
X-WR-CALDESC:Events for Lakeview Cheese Galore
REFRESH-INTERVAL;VALUE=DURATION:PT1H
X-Robots-Tag:noindex
X-PUBLISHED-TTL:PT1H
BEGIN:VTIMEZONE
TZID:America/Toronto
BEGIN:DAYLIGHT
TZOFFSETFROM:-0500
TZOFFSETTO:-0400
TZNAME:EDT
DTSTART:20210314T070000
END:DAYLIGHT
BEGIN:STANDARD
TZOFFSETFROM:-0400
TZOFFSETTO:-0500
TZNAME:EST
DTSTART:20211107T060000
END:STANDARD
BEGIN:DAYLIGHT
TZOFFSETFROM:-0500
TZOFFSETTO:-0400
TZNAME:EDT
DTSTART:20220313T070000
END:DAYLIGHT
BEGIN:STANDARD
TZOFFSETFROM:-0400
TZOFFSETTO:-0500
TZNAME:EST
DTSTART:20221106T060000
END:STANDARD
END:VTIMEZONE
BEGIN:VEVENT
DTSTART;TZID=America/Toronto:20220113T193000
DTEND;TZID=America/Toronto:20220113T210000
DTSTAMP:20260419T180053
CREATED:20211120T001501Z
LAST-MODIFIED:20211120T040512Z
UID:633-1642102200-1642107600@lakeviewcheesegalore.ca
SUMMARY:Hybrid Cheese & Stonehooker Craft Beer Tasting - January 2022
DESCRIPTION:Join Gurth and Adam\, Stonehooker’s Brewmaster\, in a fun night of tasting cheese and beer.This event is hybrid hosted evening with in-person and online participants.To get more details and to order your tickets please see our friends (and neighbours) at Stonehooker Brewery.  https://stonehooker.com/product/beer-and-cheese-pairing-for-2-hybrid-event-19-thursday-january-13-730pm/
URL:https://lakeviewcheesegalore.ca/event/hybrid-cheese-stonehooker-craft-beer-tasting-january-2022/
LOCATION:Stonehooker Bierhalle\, 866 Lakeshore Road East\, Mississagua\, Ontario\, L5E 1E1\, Canada
END:VEVENT
BEGIN:VEVENT
DTSTART;TZID=America/Toronto:20211209T193000
DTEND;TZID=America/Toronto:20211209T210000
DTSTAMP:20260419T180053
CREATED:20211119T232140Z
LAST-MODIFIED:20211120T001715Z
UID:631-1639078200-1639083600@lakeviewcheesegalore.ca
SUMMARY:Hybrid Cheese & Stonehooker Craft Beer Tasting - December 2021
DESCRIPTION:Join Gurth and Adam\, Stonehooker’s Brewmaster\, in a fun night of tasting cheese and beer.This event is hybrid hosted evening with in-person and online participants.To get more details and to order your tickets please see our friends (and neighbours) at Stonehooker Brewery.https://stonehooker.com/product/advanced-beer-and-cheese-pairing-for-2-hybrid-event-18-thursday-december-9-730pm/
URL:https://lakeviewcheesegalore.ca/event/hybrid-cheese-stonehooker-craft-beer-tasting-december-2021/
LOCATION:Stonehooker Bierhalle\, 866 Lakeshore Road East\, Mississagua\, Ontario\, L5E 1E1\, Canada
END:VEVENT
BEGIN:VEVENT
DTSTART;TZID=America/Toronto:20211120T120000
DTEND;TZID=America/Toronto:20211120T170000
DTSTAMP:20260419T180053
CREATED:20211104T173331Z
LAST-MODIFIED:20211104T173331Z
UID:199-1637409600-1637427600@lakeviewcheesegalore.ca
SUMMARY:Grand Opening of Lakeview Cheese Galore
DESCRIPTION:Calling all cheeselovers and foodies to join us for the ribbon-cutting ceremony and experience Lakeview Cheese Galore for yourselves.
URL:https://lakeviewcheesegalore.ca/event/grand-opening-of-lakeview-cheese-galore/
LOCATION:Lakeview Cheese Galore\, 848 Lakeshore Road East\, Mississauga\, Ontario\, L5E 1E1\, Canada
END:VEVENT
BEGIN:VEVENT
DTSTART;TZID=America/Toronto:20211118T193000
DTEND;TZID=America/Toronto:20211118T210000
DTSTAMP:20260419T180053
CREATED:20211102T215215Z
LAST-MODIFIED:20211104T170039Z
UID:118-1637263800-1637269200@lakeviewcheesegalore.ca
SUMMARY:Hybrid Cheese & Stonehooker Craft Beer Tasting
DESCRIPTION:Join Gurth Pretty\, of Lakeview Cheese Galore\, and Adam Cherry\, brewmaster from Stonehooker.  This is a 90 minute hybrid tasting with virtual participants\, by Zoom\, and in-person at Stonehooker’s indoor bierhall.You will taste 3 beers chosen by Adam paired with 3 cheeses chosen by Gurth.To register go to https://stonehooker.com/product/beer-and-cheese-pairing-for-2-hybrid-event-17-thursday-october-18-730pm/
URL:https://lakeviewcheesegalore.ca/event/hybrid-cheese-stonehooker-craft-beer-tasting/
LOCATION:Stonehooker Bierhalle\, 866 Lakeshore Road East\, Mississagua\, Ontario\, L5E 1E1\, Canada
END:VEVENT
END:VCALENDAR