BEGIN:VCALENDAR
VERSION:2.0
PRODID:-//Lakeview Cheese Galore - ECPv6.10.1//NONSGML v1.0//EN
CALSCALE:GREGORIAN
METHOD:PUBLISH
X-ORIGINAL-URL:https://lakeviewcheesegalore.ca
X-WR-CALDESC:Events for Lakeview Cheese Galore
REFRESH-INTERVAL;VALUE=DURATION:PT1H
X-Robots-Tag:noindex
X-PUBLISHED-TTL:PT1H
BEGIN:VTIMEZONE
TZID:America/Toronto
BEGIN:DAYLIGHT
TZOFFSETFROM:-0500
TZOFFSETTO:-0400
TZNAME:EDT
DTSTART:20220313T070000
END:DAYLIGHT
BEGIN:STANDARD
TZOFFSETFROM:-0400
TZOFFSETTO:-0500
TZNAME:EST
DTSTART:20221106T060000
END:STANDARD
END:VTIMEZONE
BEGIN:VEVENT
DTSTART;TZID=America/Toronto:20220224T193000
DTEND;TZID=America/Toronto:20220224T210000
DTSTAMP:20260420T014008
CREATED:20220129T171532Z
LAST-MODIFIED:20220129T171552Z
UID:751-1645731000-1645736400@lakeviewcheesegalore.ca
SUMMARY:February 24th - Lakeview Cheese Galore & Stonehooker Hybrid Cheese and Beer Tasting
DESCRIPTION:Gurth and Adam of Stonehooker are at it again! Their 20th beer and cheese tasting experience together. Different cheese and beer every session\, with new flavour matching experiences..This event is a hybrid hosted evening with both in-person and online participants.To reserve your tickets and get your cheese and beer go to Beer & Cheese Pairing For 2 #20 Feb 24\, 2022 In Person & Virtual | Stonehooker Brewing Company General Store
URL:https://lakeviewcheesegalore.ca/event/february-24th-lakeview-cheese-galore-stonehooker-hybrid-cheese-and-beer-tasting/
LOCATION:Stonehooker Bierhalle\, 866 Lakeshore Road East\, Mississagua\, Ontario\, L5E 1E1\, Canada
END:VEVENT
END:VCALENDAR