BEGIN:VCALENDAR
VERSION:2.0
PRODID:-//Lakeview Cheese Galore - ECPv6.10.1//NONSGML v1.0//EN
CALSCALE:GREGORIAN
METHOD:PUBLISH
X-ORIGINAL-URL:https://lakeviewcheesegalore.ca
X-WR-CALDESC:Events for Lakeview Cheese Galore
REFRESH-INTERVAL;VALUE=DURATION:PT1H
X-Robots-Tag:noindex
X-PUBLISHED-TTL:PT1H
BEGIN:VTIMEZONE
TZID:America/Toronto
BEGIN:DAYLIGHT
TZOFFSETFROM:-0500
TZOFFSETTO:-0400
TZNAME:EDT
DTSTART:20220313T070000
END:DAYLIGHT
BEGIN:STANDARD
TZOFFSETFROM:-0400
TZOFFSETTO:-0500
TZNAME:EST
DTSTART:20221106T060000
END:STANDARD
END:VTIMEZONE
BEGIN:VEVENT
DTSTART;TZID=America/Toronto:20221208T193000
DTEND;TZID=America/Toronto:20221208T210000
DTSTAMP:20260419T104838
CREATED:20221116T221746Z
LAST-MODIFIED:20221116T223804Z
UID:1164-1670527800-1670533200@lakeviewcheesegalore.ca
SUMMARY:Sampling La Dolce Vita - Italian Vino\, Formaggio e Antipasti
DESCRIPTION:La famiglia Pretty is getting together\, to lead you on a tasty evening of Italian wines\, cheese & antipasti.   \n\n\n\n \n\n\n\nHeather Ann Pretty-Mitchele of Perigon Beverage Group will lead the tasting with La Delizia Prosecco Rosé DOC\, Alpha Zeta ‘S’ Soave & Castelvecchi Chianti Classico ‘Capotondo.   \n\n\n\n \n\n\n\nHer cousin\, Gurth M. Pretty\, Master of the cheese at Lakeview Cheese Galore\, will get you to experience four cheese: Piave Vecchio Selezione Oro DOP\, Pecorino Crotonese\, Pecorino Romano Lupa DOP & Smoked Gorgonzola with the wines.   \n\n\n\n \n\n\n\nThe included Milano salumi\, stuffed olives\, crostini with red pepper & artichoke tapenade & olive bruschetta will create other gastronomical memories. \n\n\n\n \n\n\n\nParticipants must be 19 years of age and older. \n\n\n\n \n\n\n\nVirtual participants can choose to either purchase one or two bottles of each of the three featured wines.  They are to pick-up their bottles of wine\, cheese & antipasti kit at Lakeview Cheese Galore prior to the event.  A Zoom-link will be e-mailed to you\, for your participation in the presentation. \n\n\n\n \n\n\n\n\n\nTo registerClick here Sampling La Dolce Vita – Italian Vino\, Formaggio e Antipasti (lakeviewcheesegalore.ca) Read More
URL:https://lakeviewcheesegalore.ca/event/sampling-la-dolce-vita-italian-vino-formaggio-e-antipasti/
LOCATION:Lakeview Cheese Galore\, 848 Lakeshore Road East\, Mississauga\, Ontario\, L5E 1E1\, Canada
END:VEVENT
BEGIN:VEVENT
DTSTART;TZID=America/Toronto:20221214T193000
DTEND;TZID=America/Toronto:20221214T210000
DTSTAMP:20260419T104838
CREATED:20221124T200517Z
LAST-MODIFIED:20221124T200519Z
UID:1174-1671046200-1671051600@lakeviewcheesegalore.ca
SUMMARY:Stonehooker Beer & Lakeview Cheese Galore Tasting
DESCRIPTION:Gurth and Adam are setting sail again and invite you to join them on another Beer and Cheese tasting adventure. \n\n\n\n \n\n\n\nJoin us in person at the brewery or hop on our Zoom call and enjoy from the comfort of your home. Either way\, you’re sure to be entertained while enjoying delicious beer and delectable cheese together\, led by your knowledgeable hosts\, Stonehooker’s Brewmaster\, Adam Cherry and the Master of the Cheese and Lakeview Cheese Galore owner\, Gurth Pretty. \n\n\n\n \n\n\n\nEnjoy every combination of three different beer styles and three different cheese for a total of nine pairings. Some will delight\, some will surprise and some may even wow your taste buds. \n\n\n\n \n\n\n\nTake a journey with us; relax\, eat\, drink and enjoy the world of beer and cheese. \n\n\n\nFor the virtual event\, free delivery of the Beer and Cheese package is available to Mississauga\, Etobicoke\, Brampton and Oakville on Tuesday\, December 13th between 10am and 5pm.  You will be able to pick up orders as of Saturday\, December 10th.  \n\n\n\n \n\n\n\nThe Beer Line-up for the event is: \n\n\n\n\nChill Pils Czech Pilsner\n\n\n\nJack the RIPA Rye IPA\n\n\n\nArriba Mexican Hot Cocoa Stout\n\n\n\n\n \n\n\n\nThe Cheese Line-up for the event is: \n\n\n\n\nBon Feta\n\n\n\nThea Bandaged Sheep Cheddar\n\n\n\nSmoked Gorgonzola\n\n\n\n\n\n\nTO REGISTER\, click onto Beer & Cheese Pairing For 2 – December 14\, 2022 – In-person and Virtual Event | Stonehooker Brewing Company General Store
URL:https://lakeviewcheesegalore.ca/event/stonehooker-beer-lakeview-cheese-galore-tasting-2/
LOCATION:Ontario
END:VEVENT
END:VCALENDAR