BEGIN:VCALENDAR
VERSION:2.0
PRODID:-//Lakeview Cheese Galore - ECPv6.10.1//NONSGML v1.0//EN
CALSCALE:GREGORIAN
METHOD:PUBLISH
X-ORIGINAL-URL:https://lakeviewcheesegalore.ca
X-WR-CALDESC:Events for Lakeview Cheese Galore
REFRESH-INTERVAL;VALUE=DURATION:PT1H
X-Robots-Tag:noindex
X-PUBLISHED-TTL:PT1H
BEGIN:VTIMEZONE
TZID:America/Toronto
BEGIN:DAYLIGHT
TZOFFSETFROM:-0500
TZOFFSETTO:-0400
TZNAME:EDT
DTSTART:20240310T070000
END:DAYLIGHT
BEGIN:STANDARD
TZOFFSETFROM:-0400
TZOFFSETTO:-0500
TZNAME:EST
DTSTART:20241103T060000
END:STANDARD
END:VTIMEZONE
BEGIN:VEVENT
DTSTART;TZID=America/Toronto:20240612T190000
DTEND;TZID=America/Toronto:20240612T203000
DTSTAMP:20260422T062949
CREATED:20240604T015955Z
LAST-MODIFIED:20240604T020145Z
UID:1514-1718218800-1718224200@lakeviewcheesegalore.ca
SUMMARY:Harmon's Craft Beer & Ontario Cheese Tasting Experience
DESCRIPTION:Gurth has sampled many non-alcoholic beer\, but only Toronto’s Harmon’s craft beer tastes like beer. \n\n\n\nCreated in 2021 by Steve Abrams\, Rob Doyle and Mike Cuch\, Harmon’s is on a mission to brew delicious non-alcoholic craft beer. \n\n\n\nDrawing on their 40+ combined years of industry experience\, they adapted and updated methods used by generations of small brewers to create an innovative way of making non-alcoholic beer. They believe the best way to make great beer is to work within existing brewing frameworks. That means no fancy equipment or special technology is used to remove the alcohol after fermentation. They just rely on clever recipe design and close attention to detail. \n\n\n\nYou will experience their: \n\n\n\n\nTresette Italian-style Pilsner\n\n\n\nLunchbox Lagered Ale\n\n\n\nJack Pine Pale Ale\n\n\n\n\nMatched to these Ontario cheese: \n\n\n\n\nGOLD 18 month Gouda\n\n\n\nWildwood alpine-style\n\n\n\nBeau’s Abbey-style Cheese\n\n\n\n\nPrice is per participant. \n\n\n\nParticipants can be younger than 19 years of age as non-alcoholic beer (>0.5%) will be sampled. \n\n\n\nWeather permitting\, the event is planned to be outdoors in our Cheeselovers’ Garden. If it rains\, we will go indoors into the Squeak-Easy. \n\n\n\n\n\nTo register\, visit the shoppe\, call us at 905-274-7775 or click https://lakeviewcheesegalore.ca/cheese-shoppe/June-12-2024-Harmons-Non-Alcoholic-Beer-&-Cheese-Tasting-Experience-p667728447
URL:https://lakeviewcheesegalore.ca/event/harmons-craft-beer-ontario-cheese-tasting-experience/
LOCATION:Our outdoor Cheeselovers’ Garden\, 848 Lakeshore Rd. E\, Mississauga\, ON\, L5E 1E1\, Canada
ORGANIZER;CN="Lakeview Cheese Galore":MAILTO:info@lakeviewcheesegalore.ca
END:VEVENT
BEGIN:VEVENT
DTSTART;TZID=America/Toronto:20240615T110000
DTEND;TZID=America/Toronto:20240615T150000
DTSTAMP:20260422T062949
CREATED:20240613T165516Z
LAST-MODIFIED:20240613T165846Z
UID:1523-1718449200-1718463600@lakeviewcheesegalore.ca
SUMMARY:Yawdi's Pepper Jelly Product Tasting
DESCRIPTION:Come to the shoppe to discover and experience the four delicious pepper jellies (red pepper\, pineapple\, mango and lavender) produced in Scarborough by Veneise and her crew.  \n\n\n\nTaste all four of the jellies to pick which has the most Scotch Bonnet heat. \n\n\n\nThe jellies are delicious with cheese\, cured meat\, cooked chicken\, pork\, fish and seafood.
URL:https://lakeviewcheesegalore.ca/event/yawdis-pepper-jelly-product-tasting/
LOCATION:Lakeview Cheese Galore\, 848 Lakeshore Road East\, Mississauga\, Ontario\, L5E 1E1\, Canada
ORGANIZER;CN="Lakeview Cheese Galore":MAILTO:info@lakeviewcheesegalore.ca
END:VEVENT
BEGIN:VEVENT
DTSTART;TZID=America/Toronto:20240626T183000
DTEND;TZID=America/Toronto:20240626T203000
DTSTAMP:20260422T062949
CREATED:20240622T153458Z
LAST-MODIFIED:20240622T153458Z
UID:1529-1719426600-1719433800@lakeviewcheesegalore.ca
SUMMARY:An Evening for Wine & Cheese Lovers at Capra's Kitchen
DESCRIPTION:A culinary experience of Canadian and French cheese and wine\, with an assortment of charcuterie tasting to kick-off the summer. \n\n\n\nExplore and learn the differences between Canadian and French cheese with Master of the cheese Gurth M. Pretty and celebrity Chef Massimo Capra. \n\n\n\n The event takes place at Chef Capra’s restaurant\, Capra’s Kitchen in Clarkson. \n\n\n\nCall the restaurant to reserve your spot(s).  Space is limited.
URL:https://lakeviewcheesegalore.ca/event/an-evening-for-wine-cheese-lovers-at-capras-kitchen/
LOCATION:Capra’s Kitchen\, 18343 Lakeshore Rd. W.\, MISSISSAUGA\, ON\, L5J 1J7\, Canada
END:VEVENT
END:VCALENDAR